BEGIN:VCALENDAR
VERSION:2.0
PRODID:-//Robin Steitz - ECPv6.15.20//NONSGML v1.0//EN
CALSCALE:GREGORIAN
METHOD:PUBLISH
X-WR-CALNAME:Robin Steitz
X-ORIGINAL-URL:https://robinsteitz.de
X-WR-CALDESC:Veranstaltungen für Robin Steitz
REFRESH-INTERVAL;VALUE=DURATION:PT1H
X-Robots-Tag:noindex
X-PUBLISHED-TTL:PT1H
BEGIN:VTIMEZONE
TZID:UTC
BEGIN:STANDARD
TZOFFSETFROM:+0000
TZOFFSETTO:+0000
TZNAME:UTC
DTSTART:20230101T000000
END:STANDARD
END:VTIMEZONE
BEGIN:VEVENT
DTSTART;VALUE=DATE:20240928
DTEND;VALUE=DATE:20240929
DTSTAMP:20260419T124752
CREATED:20240729T080052Z
LAST-MODIFIED:20240729T080052Z
UID:1335-1727481600-1727567999@robinsteitz.de
SUMMARY:Let The Butterfly // Oberursel
DESCRIPTION:
URL:https://robinsteitz.de/event/let-the-butterfly-oberursel/
CATEGORIES:privat
END:VEVENT
BEGIN:VEVENT
DTSTART;VALUE=DATE:20240927
DTEND;VALUE=DATE:20240928
DTSTAMP:20260419T124752
CREATED:20240729T080004Z
LAST-MODIFIED:20240729T080004Z
UID:1333-1727395200-1727481599@robinsteitz.de
SUMMARY:Das Dynamische Duo // Obrigheim
DESCRIPTION:
URL:https://robinsteitz.de/event/das-dynamische-duo-obrigheim/
CATEGORIES:privat
END:VEVENT
BEGIN:VEVENT
DTSTART;VALUE=DATE:20240925
DTEND;VALUE=DATE:20240926
DTSTAMP:20260419T124752
CREATED:20240729T075936Z
LAST-MODIFIED:20240729T075936Z
UID:1331-1727222400-1727308799@robinsteitz.de
SUMMARY:Das Dynamische Duo // Hamburg
DESCRIPTION:
URL:https://robinsteitz.de/event/das-dynamische-duo-hamburg/
CATEGORIES:privat
END:VEVENT
BEGIN:VEVENT
DTSTART;TZID=UTC:20240914T200000
DTEND;TZID=UTC:20240914T200000
DTSTAMP:20260419T124752
CREATED:20240729T075856Z
LAST-MODIFIED:20240729T075856Z
UID:1329-1726344000-1726344000@robinsteitz.de
SUMMARY:Let The Butterfly // Ober-Eschbach
DESCRIPTION:
URL:https://robinsteitz.de/event/let-the-butterfly-ober-eschbach-2/
CATEGORIES:öffentlich
END:VEVENT
BEGIN:VEVENT
DTSTART;TZID=UTC:20240912T190000
DTEND;TZID=UTC:20240912T190000
DTSTAMP:20260419T124752
CREATED:20240729T075818Z
LAST-MODIFIED:20240729T075818Z
UID:1327-1726167600-1726167600@robinsteitz.de
SUMMARY:Das Dynamische Duo // Frankfurt Intercity Hotel (Afterwork)
DESCRIPTION:
URL:https://robinsteitz.de/event/das-dynamische-duo-frankfurt-intercity-hotel-afterwork/
CATEGORIES:öffentlich
END:VEVENT
BEGIN:VEVENT
DTSTART;TZID=UTC:20240907T200000
DTEND;TZID=UTC:20240907T200000
DTSTAMP:20260419T124752
CREATED:20240729T075138Z
LAST-MODIFIED:20240729T075138Z
UID:1325-1725739200-1725739200@robinsteitz.de
SUMMARY:Let The Butterfly // Gau-Bickelheim
DESCRIPTION:
URL:https://robinsteitz.de/event/let-the-butterfly-gau-bickelheim/
CATEGORIES:öffentlich
END:VEVENT
BEGIN:VEVENT
DTSTART;VALUE=DATE:20240906
DTEND;VALUE=DATE:20240907
DTSTAMP:20260419T124752
CREATED:20240729T075038Z
LAST-MODIFIED:20240729T075038Z
UID:1323-1725580800-1725667199@robinsteitz.de
SUMMARY:Let The Butterfly // Berlin
DESCRIPTION:
URL:https://robinsteitz.de/event/let-the-butterfly-berlin/
CATEGORIES:privat
END:VEVENT
BEGIN:VEVENT
DTSTART;TZID=UTC:20240905T183000
DTEND;TZID=UTC:20240905T183000
DTSTAMP:20260419T124752
CREATED:20240729T074148Z
LAST-MODIFIED:20240729T074148Z
UID:1320-1725561000-1725561000@robinsteitz.de
SUMMARY:Living Stage Session (Fabrizio Levita & Band) - Living Hotel Frankfurt
DESCRIPTION:
URL:https://robinsteitz.de/event/living-stage-session-fabrizio-levita-band-living-hotel-frankfurt/
CATEGORIES:öffentlich
END:VEVENT
BEGIN:VEVENT
DTSTART;TZID=UTC:20240904T190000
DTEND;TZID=UTC:20240904T223000
DTSTAMP:20260419T124752
CREATED:20240729T074035Z
LAST-MODIFIED:20240729T075220Z
UID:1318-1725476400-1725489000@robinsteitz.de
SUMMARY:Let The Butterfly // Bad Homburg
DESCRIPTION:
URL:https://robinsteitz.de/event/let-the-butterfly-bad-homburg-4/
CATEGORIES:öffentlich
END:VEVENT
BEGIN:VEVENT
DTSTART;TZID=UTC:20240902T190000
DTEND;TZID=UTC:20240902T190000
DTSTAMP:20260419T124752
CREATED:20240729T073957Z
LAST-MODIFIED:20240729T075300Z
UID:1316-1725303600-1725303600@robinsteitz.de
SUMMARY:Das Dynamische Duo // Bad Homburg
DESCRIPTION:
URL:https://robinsteitz.de/event/das-dynamische-duo-bad-homburg-3/
CATEGORIES:öffentlich
END:VEVENT
BEGIN:VEVENT
DTSTART;TZID=UTC:20240831T200000
DTEND;TZID=UTC:20240831T200000
DTSTAMP:20260419T124752
CREATED:20240729T073923Z
LAST-MODIFIED:20240729T073923Z
UID:1314-1725134400-1725134400@robinsteitz.de
SUMMARY:Let The Butterfly // Bad Homburg
DESCRIPTION:
URL:https://robinsteitz.de/event/let-the-butterfly-bad-homburg-3/
CATEGORIES:öffentlich
END:VEVENT
BEGIN:VEVENT
DTSTART;TZID=UTC:20240830T200000
DTEND;TZID=UTC:20240830T200000
DTSTAMP:20260419T124752
CREATED:20240729T073850Z
LAST-MODIFIED:20240729T073850Z
UID:1312-1725048000-1725048000@robinsteitz.de
SUMMARY:Let The Butterfly // Rambach
DESCRIPTION:
URL:https://robinsteitz.de/event/let-the-butterfly-rambach/
CATEGORIES:öffentlich
END:VEVENT
BEGIN:VEVENT
DTSTART;TZID=UTC:20240829T190000
DTEND;TZID=UTC:20240829T190000
DTSTAMP:20260419T124752
CREATED:20240729T073755Z
LAST-MODIFIED:20240729T073755Z
UID:1310-1724958000-1724958000@robinsteitz.de
SUMMARY:Let the Butterfly // Wörrstadt
DESCRIPTION:
URL:https://robinsteitz.de/event/let-the-butterfly-woerrstadt-2/
CATEGORIES:öffentlich
END:VEVENT
BEGIN:VEVENT
DTSTART;VALUE=DATE:20240828
DTEND;VALUE=DATE:20240829
DTSTAMP:20260419T124752
CREATED:20240729T073718Z
LAST-MODIFIED:20240729T075405Z
UID:1308-1724803200-1724889599@robinsteitz.de
SUMMARY:No Filter // Mörfelden
DESCRIPTION:
URL:https://robinsteitz.de/event/no-filter-moerfelden/
CATEGORIES:privat
END:VEVENT
BEGIN:VEVENT
DTSTART;VALUE=DATE:20240824
DTEND;VALUE=DATE:20240825
DTSTAMP:20260419T124752
CREATED:20240729T073557Z
LAST-MODIFIED:20240729T075435Z
UID:1306-1724457600-1724543999@robinsteitz.de
SUMMARY:Das Dynamische Duo // Usingen
DESCRIPTION:
URL:https://robinsteitz.de/event/das-dynamische-duo-usingen/
CATEGORIES:privat
END:VEVENT
BEGIN:VEVENT
DTSTART;TZID=UTC:20240823T200000
DTEND;TZID=UTC:20240823T200000
DTSTAMP:20260419T124752
CREATED:20240729T073501Z
LAST-MODIFIED:20240729T073501Z
UID:1304-1724443200-1724443200@robinsteitz.de
SUMMARY:Let The Butterfly // Kloppenheim
DESCRIPTION:
URL:https://robinsteitz.de/event/let-the-butterfly-kloppenheim-2/
CATEGORIES:öffentlich
END:VEVENT
BEGIN:VEVENT
DTSTART;TZID=UTC:20240823T160000
DTEND;TZID=UTC:20240823T160000
DTSTAMP:20260419T124752
CREATED:20240729T073430Z
LAST-MODIFIED:20240729T073430Z
UID:1302-1724428800-1724428800@robinsteitz.de
SUMMARY:Ryan de Rama & Friends // Frankfurt - Museumsuferfest
DESCRIPTION:
URL:https://robinsteitz.de/event/ryan-de-rama-friends-frankfurt-museumsuferfest/
CATEGORIES:öffentlich
END:VEVENT
BEGIN:VEVENT
DTSTART;VALUE=DATE:20240817
DTEND;VALUE=DATE:20240818
DTSTAMP:20260419T124752
CREATED:20240729T073341Z
LAST-MODIFIED:20240729T075519Z
UID:1300-1723852800-1723939199@robinsteitz.de
SUMMARY:Jessica Parish // Wölfersheim (Support für Slade)
DESCRIPTION:
URL:https://robinsteitz.de/event/jessica-parish-woelfersheim-support-fuer-slade/
CATEGORIES:öffentlich
END:VEVENT
BEGIN:VEVENT
DTSTART;TZID=UTC:20240810T200000
DTEND;TZID=UTC:20240810T200000
DTSTAMP:20260419T124752
CREATED:20240729T073258Z
LAST-MODIFIED:20240729T075551Z
UID:1298-1723320000-1723320000@robinsteitz.de
SUMMARY:Sixpash // Dernbach
DESCRIPTION:
URL:https://robinsteitz.de/event/sixpash-dernbach/
CATEGORIES:öffentlich
END:VEVENT
BEGIN:VEVENT
DTSTART;TZID=UTC:20240803T200000
DTEND;TZID=UTC:20240803T200000
DTSTAMP:20260419T124752
CREATED:20240729T073222Z
LAST-MODIFIED:20240729T075714Z
UID:1296-1722715200-1722715200@robinsteitz.de
SUMMARY:Sixpash // Bilkheim
DESCRIPTION:
URL:https://robinsteitz.de/event/sixpash-bilkheim/
CATEGORIES:öffentlich
END:VEVENT
BEGIN:VEVENT
DTSTART;TZID=UTC:20240802T200000
DTEND;TZID=UTC:20240802T220000
DTSTAMP:20260419T124752
CREATED:20240729T073150Z
LAST-MODIFIED:20240729T075642Z
UID:1294-1722628800-1722636000@robinsteitz.de
SUMMARY:Das  Dynamische Duo // Karben
DESCRIPTION:
URL:https://robinsteitz.de/event/das-dynamische-duo-karben/
CATEGORIES:öffentlich
END:VEVENT
BEGIN:VEVENT
DTSTART;VALUE=DATE:20240627
DTEND;VALUE=DATE:20240628
DTSTAMP:20260419T124752
CREATED:20240219T114628Z
LAST-MODIFIED:20240219T114628Z
UID:1172-1719446400-1719532799@robinsteitz.de
SUMMARY:Das Dynamische Duo // Dillenburg (privat)
DESCRIPTION:
URL:https://robinsteitz.de/event/das-dynamische-duo-dillenburg-privat/
CATEGORIES:privat
END:VEVENT
BEGIN:VEVENT
DTSTART;VALUE=DATE:20240622
DTEND;VALUE=DATE:20240623
DTSTAMP:20260419T124752
CREATED:20240219T114543Z
LAST-MODIFIED:20240219T114543Z
UID:1170-1719014400-1719100799@robinsteitz.de
SUMMARY:Canoodle // Alsfeld (privat)
DESCRIPTION:
URL:https://robinsteitz.de/event/canoodle-alsfeld-privat/
CATEGORIES:privat
END:VEVENT
BEGIN:VEVENT
DTSTART;VALUE=DATE:20240615
DTEND;VALUE=DATE:20240616
DTSTAMP:20260419T124752
CREATED:20240219T114307Z
LAST-MODIFIED:20240219T114307Z
UID:1168-1718409600-1718495999@robinsteitz.de
SUMMARY:Fabrizio Levita Duo // Mannheim
DESCRIPTION:
URL:https://robinsteitz.de/event/fabrizio-levita-duo-mannheim/
CATEGORIES:privat
END:VEVENT
BEGIN:VEVENT
DTSTART;VALUE=DATE:20240608
DTEND;VALUE=DATE:20240609
DTSTAMP:20260419T124752
CREATED:20240219T114224Z
LAST-MODIFIED:20240219T114224Z
UID:1166-1717804800-1717891199@robinsteitz.de
SUMMARY:Das Dynamische Duo // Kaiserslautern
DESCRIPTION:
URL:https://robinsteitz.de/event/das-dynamische-duo-kaiserslautern/
CATEGORIES:privat
END:VEVENT
BEGIN:VEVENT
DTSTART;VALUE=DATE:20240607
DTEND;VALUE=DATE:20240608
DTSTAMP:20260419T124752
CREATED:20240219T114138Z
LAST-MODIFIED:20240219T114138Z
UID:1164-1717718400-1717804799@robinsteitz.de
SUMMARY:Let The Butterfly // Usingen (privat)
DESCRIPTION:
URL:https://robinsteitz.de/event/let-the-butterfly-usingen-privat/
CATEGORIES:privat
END:VEVENT
BEGIN:VEVENT
DTSTART;VALUE=DATE:20240606
DTEND;VALUE=DATE:20240607
DTSTAMP:20260419T124752
CREATED:20240219T113956Z
LAST-MODIFIED:20240219T113956Z
UID:1162-1717632000-1717718399@robinsteitz.de
SUMMARY:Das Dynamische Duo //  Wörrstadt
DESCRIPTION:
URL:https://robinsteitz.de/event/das-dynamische-duo-woerrstadt/
CATEGORIES:privat
END:VEVENT
BEGIN:VEVENT
DTSTART;VALUE=DATE:20240601
DTEND;VALUE=DATE:20240602
DTSTAMP:20260419T124752
CREATED:20240219T113848Z
LAST-MODIFIED:20240219T113848Z
UID:1160-1717200000-1717286399@robinsteitz.de
SUMMARY:Das Dynamische Duo // Mörfelden Walldorf (privat)
DESCRIPTION:
URL:https://robinsteitz.de/event/das-dynamische-duo-moerfelden-walldorf-privat/
CATEGORIES:privat
END:VEVENT
BEGIN:VEVENT
DTSTART;VALUE=DATE:20240525
DTEND;VALUE=DATE:20240526
DTSTAMP:20260419T124752
CREATED:20240219T113756Z
LAST-MODIFIED:20240219T113756Z
UID:1158-1716595200-1716681599@robinsteitz.de
SUMMARY:Das Dynamische Duo // Imsweiler (privat)
DESCRIPTION:
URL:https://robinsteitz.de/event/das-dynamische-duo-imsweiler-privat/
CATEGORIES:privat
END:VEVENT
BEGIN:VEVENT
DTSTART;VALUE=DATE:20240518
DTEND;VALUE=DATE:20240519
DTSTAMP:20260419T124752
CREATED:20240219T113543Z
LAST-MODIFIED:20240219T113543Z
UID:1156-1715990400-1716076799@robinsteitz.de
SUMMARY:Let The Butterfly // Oberwesel (privat)
DESCRIPTION:
URL:https://robinsteitz.de/event/let-the-butterfly-oberwesel-privat/
CATEGORIES:privat
END:VEVENT
END:VCALENDAR